BEGIN:VCALENDAR
VERSION:2.0
CALSCALE:GREGORIAN
PRODID:-//Diputació de Barcelona//DibaCMS//EN
BEGIN:VEVENT
UID:4723
DTSTAMP:20260421T075114
DTSTART:20091026T190000
DTEND:20091026T000000
SUMMARY:El club de lectura de la Biblioteca organitza una xerrada sobre l'obra "El lector", de Bernhard Schlink
LOCATION:
METHOD:PUBLISH
X-WR-CALNAME:caldesm@caldesdemontbui.cat
X-WR-TIMEZONE:Europe/Madrid
DESCRIPTION:
URI:https://www.caldesdemontbui.cat/actualitat/agenda/el-club-de-lectura-de-la-biblioteca-organitza-una-xerrada-sobre-lobra-el-lector-de-bernhard-schlink.html
CLASS:PUBLIC
END:VEVENT
END:VCALENDAR
