BEGIN:VCALENDAR
VERSION:2.0
CALSCALE:GREGORIAN
PRODID:-//Diputació de Barcelona//DibaCMS//EN
BEGIN:VEVENT
UID:4717
DTSTAMP:20260421T152647
DTSTART:20091017T000000
DTEND:20091017T000000
SUMMARY:Travessa per la Serra de Montsant
LOCATION:
METHOD:PUBLISH
X-WR-CALNAME:caldesm@caldesdemontbui.cat
X-WR-TIMEZONE:Europe/Madrid
DESCRIPTION:
URI:https://www.caldesdemontbui.cat/actualitat/agenda/travessa-per-la-serra-de-montsant.html
CLASS:PUBLIC
END:VEVENT
END:VCALENDAR
