BEGIN:VCALENDAR
VERSION:2.0
CALSCALE:GREGORIAN
PRODID:-//Diputació de Barcelona//DibaCMS//EN
BEGIN:VEVENT
UID:4716
DTSTAMP:20260421T062530
DTSTART:20091016T203000
DTEND:20091016T000000
SUMMARY:La Biblioteca acull l'espectacle musical Història, lletres i rock & roll
LOCATION:
METHOD:PUBLISH
X-WR-CALNAME:caldesm@caldesdemontbui.cat
X-WR-TIMEZONE:Europe/Madrid
DESCRIPTION:
URI:https://www.caldesdemontbui.cat/actualitat/agenda/la-biblioteca-acull-lespectacle-musical-historia-lletres-i-rock-and-roll.html
CLASS:PUBLIC
END:VEVENT
END:VCALENDAR
