BEGIN:VCALENDAR
VERSION:2.0
CALSCALE:GREGORIAN
PRODID:-//Diputació de Barcelona//DibaCMS//EN
BEGIN:VEVENT
UID:4715
DTSTAMP:20260421T061630
DTSTART:20091016T113000
DTEND:20091016T000000
SUMMARY:Ofrena Floral i missa
LOCATION:
METHOD:PUBLISH
X-WR-CALNAME:caldesm@caldesdemontbui.cat
X-WR-TIMEZONE:Europe/Madrid
DESCRIPTION:
URI:https://www.caldesdemontbui.cat/actualitat/agenda/ofrena-floral-i-missa.html
CLASS:PUBLIC
END:VEVENT
END:VCALENDAR
