BEGIN:VCALENDAR
VERSION:2.0
CALSCALE:GREGORIAN
PRODID:-//Diputació de Barcelona//DibaCMS//EN
BEGIN:VEVENT
UID:4714
DTSTAMP:20260421T061541
DTSTART:20091014T160000
DTEND:20091014T000000
SUMMARY:"L'escola abans i l'escola ara"
LOCATION:
METHOD:PUBLISH
X-WR-CALNAME:caldesm@caldesdemontbui.cat
X-WR-TIMEZONE:Europe/Madrid
DESCRIPTION:
URI:https://www.caldesdemontbui.cat/actualitat/agenda/lescola-abans-i-lescola-ara.html
CLASS:PUBLIC
END:VEVENT
END:VCALENDAR
