BEGIN:VCALENDAR
VERSION:2.0
CALSCALE:GREGORIAN
PRODID:-//Diputació de Barcelona//DibaCMS//EN
BEGIN:VEVENT
UID:4713
DTSTAMP:20260421T063833
DTSTART:20091014T090000
DTEND:20091014T000000
SUMMARY:Caminada fins a la presa a través del castanyer del Xamós
LOCATION:
METHOD:PUBLISH
X-WR-CALNAME:caldesm@caldesdemontbui.cat
X-WR-TIMEZONE:Europe/Madrid
DESCRIPTION:
URI:https://www.caldesdemontbui.cat/actualitat/agenda/caminada-fins-a-la-presa-a-traves-del-castanyer-del-xamos.html
CLASS:PUBLIC
END:VEVENT
END:VCALENDAR
