BEGIN:VCALENDAR
VERSION:2.0
CALSCALE:GREGORIAN
PRODID:-//Diputació de Barcelona//DibaCMS//EN
BEGIN:VEVENT
UID:4712
DTSTAMP:20260421T075149
DTSTART:20091013T100000
DTEND:20091013T000000
SUMMARY:Festa Gran
LOCATION:
METHOD:PUBLISH
X-WR-CALNAME:caldesm@caldesdemontbui.cat
X-WR-TIMEZONE:Europe/Madrid
DESCRIPTION:
URI:https://www.caldesdemontbui.cat/actualitat/agenda/festa-gran.html
CLASS:PUBLIC
END:VEVENT
END:VCALENDAR
