BEGIN:VCALENDAR
VERSION:2.0
CALSCALE:GREGORIAN
PRODID:-//Diputació de Barcelona//DibaCMS//EN
BEGIN:VEVENT
UID:4709
DTSTAMP:20260421T050135
DTSTART:20091010T183000
DTEND:20091010T000000
SUMMARY:Caldes signa la renovació del conveni d'agermanament amb Taunusstein
LOCATION:
METHOD:PUBLISH
X-WR-CALNAME:caldesm@caldesdemontbui.cat
X-WR-TIMEZONE:Europe/Madrid
DESCRIPTION:
URI:https://www.caldesdemontbui.cat/actualitat/agenda/caldes-signa-la-renovacio-del-conveni-dagermanament-amb-taunusstein.html
CLASS:PUBLIC
END:VEVENT
END:VCALENDAR
