BEGIN:VCALENDAR
VERSION:2.0
CALSCALE:GREGORIAN
PRODID:-//Diputació de Barcelona//DibaCMS//EN
BEGIN:VEVENT
UID:4708
DTSTAMP:20260421T050014
DTSTART:20091009T000000
DTEND:20091031T000000
SUMMARY:Exposició d'obres dels alumnes adults de pintura del Taller d'Art Municipal Manolo Hugué
LOCATION:
METHOD:PUBLISH
X-WR-CALNAME:caldesm@caldesdemontbui.cat
X-WR-TIMEZONE:Europe/Madrid
DESCRIPTION:
URI:https://www.caldesdemontbui.cat/actualitat/agenda/exposicio-dobres-dels-alumnes-adults-de-pintura-del-taller-dart-municipal-manolo-hugue.html
CLASS:PUBLIC
END:VEVENT
END:VCALENDAR
