BEGIN:VCALENDAR
VERSION:2.0
CALSCALE:GREGORIAN
PRODID:-//Diputació de Barcelona//DibaCMS//EN
BEGIN:VEVENT
UID:4707
DTSTAMP:20260421T062337
DTSTART:20091009T000000
DTEND:20091031T000000
SUMMARY:Exposició d'obres dels alumnes adults de fotografia, gravat i volum del Taller d'Art Municipal Manolo Hugué
LOCATION:
METHOD:PUBLISH
X-WR-CALNAME:caldesm@caldesdemontbui.cat
X-WR-TIMEZONE:Europe/Madrid
DESCRIPTION:
URI:https://www.caldesdemontbui.cat/actualitat/agenda/exposicio-dobres-dels-alumnes-adults-de-fotografia-gravat-i-volum-del-taller-dart-municipal-manolo-hugue.html
CLASS:PUBLIC
END:VEVENT
END:VCALENDAR
