BEGIN:VCALENDAR
VERSION:2.0
CALSCALE:GREGORIAN
PRODID:-//Diputació de Barcelona//DibaCMS//EN
BEGIN:VEVENT
UID:4706
DTSTAMP:20260421T063750
DTSTART:20091009T000000
DTEND:20091012T000000
SUMMARY:Exposició de labors, treballs manuals i mostra d'activitats
LOCATION:
METHOD:PUBLISH
X-WR-CALNAME:caldesm@caldesdemontbui.cat
X-WR-TIMEZONE:Europe/Madrid
DESCRIPTION:
URI:https://www.caldesdemontbui.cat/actualitat/agenda/exposicio-de-labors-treballs-manuals-i-mostra-dactivitats.html
CLASS:PUBLIC
END:VEVENT
END:VCALENDAR
