BEGIN:VCALENDAR
VERSION:2.0
CALSCALE:GREGORIAN
PRODID:-//Diputació de Barcelona//DibaCMS//EN
BEGIN:VEVENT
UID:4705
DTSTAMP:20260421T064051
DTSTART:20091009T000000
DTEND:20091031T000000
SUMMARY:Exposició de pintura dels alumnes adults del Taller d'Art Municipal
LOCATION:
METHOD:PUBLISH
X-WR-CALNAME:caldesm@caldesdemontbui.cat
X-WR-TIMEZONE:Europe/Madrid
DESCRIPTION:
URI:https://www.caldesdemontbui.cat/actualitat/agenda/exposicio-de-pintura-dels-alumnes-adults-del-taller-dart-municipal.html
CLASS:PUBLIC
END:VEVENT
END:VCALENDAR
