BEGIN:VCALENDAR
VERSION:2.0
CALSCALE:GREGORIAN
PRODID:-//Diputació de Barcelona//DibaCMS//EN
BEGIN:VEVENT
UID:4704
DTSTAMP:20260421T045918
DTSTART:20091008T200000
DTEND:20091008T000000
SUMMARY:José Manuel Villa Lobo presenta el seu llibre de poemes a la Biblioteca
LOCATION:
METHOD:PUBLISH
X-WR-CALNAME:caldesm@caldesdemontbui.cat
X-WR-TIMEZONE:Europe/Madrid
DESCRIPTION:
URI:https://www.caldesdemontbui.cat/actualitat/agenda/jose-manuel-villa-lobo-presenta-el-seu-llibre-de-poemes-a-la-biblioteca.html
CLASS:PUBLIC
END:VEVENT
END:VCALENDAR
