BEGIN:VCALENDAR
VERSION:2.0
CALSCALE:GREGORIAN
PRODID:-//Diputació de Barcelona//DibaCMS//EN
BEGIN:VEVENT
UID:4702
DTSTAMP:20260421T062433
DTSTART:20091007T090000
DTEND:20091007T000000
SUMMARY:Caminada fins el Mas d'en Sisa
LOCATION:
METHOD:PUBLISH
X-WR-CALNAME:caldesm@caldesdemontbui.cat
X-WR-TIMEZONE:Europe/Madrid
DESCRIPTION:
URI:https://www.caldesdemontbui.cat/actualitat/agenda/caminada-fins-el-mas-den-sisa.html
CLASS:PUBLIC
END:VEVENT
END:VCALENDAR
