BEGIN:VCALENDAR
VERSION:2.0
CALSCALE:GREGORIAN
PRODID:-//Diputació de Barcelona//DibaCMS//EN
BEGIN:VEVENT
UID:4698
DTSTAMP:20260421T061615
DTSTART:20090930T075000
DTEND:20090930T000000
SUMMARY:Caminada a Castellcir des de Castellterçol
LOCATION:
METHOD:PUBLISH
X-WR-CALNAME:caldesm@caldesdemontbui.cat
X-WR-TIMEZONE:Europe/Madrid
DESCRIPTION:
URI:https://www.caldesdemontbui.cat/actualitat/agenda/caminada-a-castellcir-des-de-castelltercol.html
CLASS:PUBLIC
END:VEVENT
END:VCALENDAR
