BEGIN:VCALENDAR
VERSION:2.0
CALSCALE:GREGORIAN
PRODID:-//Diputació de Barcelona//DibaCMS//EN
BEGIN:VEVENT
UID:4696
DTSTAMP:20260421T050035
DTSTART:20090928T190000
DTEND:20090928T000000
SUMMARY:Club de Lectura: "La muntanya màgica" de Thomas Mann
LOCATION:
METHOD:PUBLISH
X-WR-CALNAME:caldesm@caldesdemontbui.cat
X-WR-TIMEZONE:Europe/Madrid
DESCRIPTION:
URI:https://www.caldesdemontbui.cat/actualitat/agenda/club-de-lectura-la-muntanya-magica-de-thomas-mann.html
CLASS:PUBLIC
END:VEVENT
END:VCALENDAR
