BEGIN:VCALENDAR
VERSION:2.0
CALSCALE:GREGORIAN
PRODID:-//Diputació de Barcelona//DibaCMS//EN
BEGIN:VEVENT
UID:4695
DTSTAMP:20260421T063037
DTSTART:20090927T000000
DTEND:20090927T000000
SUMMARY:12a etapa del Cami de Ronda entre Tossa de Mar i Blanes
LOCATION:
METHOD:PUBLISH
X-WR-CALNAME:caldesm@caldesdemontbui.cat
X-WR-TIMEZONE:Europe/Madrid
DESCRIPTION:
URI:https://www.caldesdemontbui.cat/actualitat/agenda/12a-etapa-del-cami-de-ronda-entre-tossa-de-mar-i-blanes.html
CLASS:PUBLIC
END:VEVENT
END:VCALENDAR
