BEGIN:VCALENDAR
VERSION:2.0
CALSCALE:GREGORIAN
PRODID:-//Diputació de Barcelona//DibaCMS//EN
BEGIN:VEVENT
UID:4693
DTSTAMP:20260421T063650
DTSTART:20090926T000000
DTEND:20090927T000000
SUMMARY:Travessa pels Pallars i pujada al cim del Pinetó
LOCATION:
METHOD:PUBLISH
X-WR-CALNAME:caldesm@caldesdemontbui.cat
X-WR-TIMEZONE:Europe/Madrid
DESCRIPTION:
URI:https://www.caldesdemontbui.cat/actualitat/agenda/travessa-pels-pallars-i-pujada-al-cim-del-pineto.html
CLASS:PUBLIC
END:VEVENT
END:VCALENDAR
