BEGIN:VCALENDAR
VERSION:2.0
CALSCALE:GREGORIAN
PRODID:-//Diputació de Barcelona//DibaCMS//EN
BEGIN:VEVENT
UID:4692
DTSTAMP:20260421T045404
DTSTART:20090925T220000
DTEND:20090925T000000
SUMMARY:Audició de sardanes nocturna
LOCATION:
METHOD:PUBLISH
X-WR-CALNAME:caldesm@caldesdemontbui.cat
X-WR-TIMEZONE:Europe/Madrid
DESCRIPTION:
URI:https://www.caldesdemontbui.cat/actualitat/agenda/audicio-de-sardanes-nocturna.html
CLASS:PUBLIC
END:VEVENT
END:VCALENDAR
