BEGIN:VCALENDAR
VERSION:2.0
CALSCALE:GREGORIAN
PRODID:-//Diputació de Barcelona//DibaCMS//EN
BEGIN:VEVENT
UID:4691
DTSTAMP:20260421T093725
DTSTART:20090925T200000
DTEND:20090925T000000
SUMMARY:Xerrada i presentació del llibre "Islam, dona i societat"
LOCATION:
METHOD:PUBLISH
X-WR-CALNAME:caldesm@caldesdemontbui.cat
X-WR-TIMEZONE:Europe/Madrid
DESCRIPTION:
URI:https://www.caldesdemontbui.cat/actualitat/agenda/xerrada-i-presentacio-del-llibre-islam-dona-i-societat.html
CLASS:PUBLIC
END:VEVENT
END:VCALENDAR
