BEGIN:VCALENDAR
VERSION:2.0
CALSCALE:GREGORIAN
PRODID:-//Diputació de Barcelona//DibaCMS//EN
BEGIN:VEVENT
UID:4690
DTSTAMP:20260421T075057
DTSTART:20090925T180000
DTEND:20090925T000000
SUMMARY:Hora del conte "Més que contes..."
LOCATION:
METHOD:PUBLISH
X-WR-CALNAME:caldesm@caldesdemontbui.cat
X-WR-TIMEZONE:Europe/Madrid
DESCRIPTION:
URI:https://www.caldesdemontbui.cat/actualitat/agenda/hora-del-conte-mes-que-contes.html
CLASS:PUBLIC
END:VEVENT
END:VCALENDAR
