BEGIN:VCALENDAR
VERSION:2.0
CALSCALE:GREGORIAN
PRODID:-//Diputació de Barcelona//DibaCMS//EN
BEGIN:VEVENT
UID:4688
DTSTAMP:20260421T063301
DTSTART:20090923T000000
DTEND:20090923T000000
SUMMARY:Fi del termini per a la presentació de fotografies del concurs Correfoc
LOCATION:
METHOD:PUBLISH
X-WR-CALNAME:caldesm@caldesdemontbui.cat
X-WR-TIMEZONE:Europe/Madrid
DESCRIPTION:
URI:https://www.caldesdemontbui.cat/actualitat/agenda/fi-del-termini-per-a-la-presentacio-de-fotografies-del-concurs-correfoc.html
CLASS:PUBLIC
END:VEVENT
END:VCALENDAR
