BEGIN:VCALENDAR
VERSION:2.0
CALSCALE:GREGORIAN
PRODID:-//Diputació de Barcelona//DibaCMS//EN
BEGIN:VEVENT
UID:4686
DTSTAMP:20260421T114927
DTSTART:20090921T000000
DTEND:20091008T000000
SUMMARY:Realitat i Vitalitat de la llengua catalana!
LOCATION:
METHOD:PUBLISH
X-WR-CALNAME:caldesm@caldesdemontbui.cat
X-WR-TIMEZONE:Europe/Madrid
DESCRIPTION:
URI:https://www.caldesdemontbui.cat/actualitat/agenda/realitat-i-vitalitat-de-la-llengua-catalana.html
CLASS:PUBLIC
END:VEVENT
END:VCALENDAR
