BEGIN:VCALENDAR
VERSION:2.0
CALSCALE:GREGORIAN
PRODID:-//Diputació de Barcelona//DibaCMS//EN
BEGIN:VEVENT
UID:4685
DTSTAMP:20260421T020738
DTSTART:20090920T000000
DTEND:20090920T000000
SUMMARY:Pujada al Balandrau
LOCATION:
METHOD:PUBLISH
X-WR-CALNAME:caldesm@caldesdemontbui.cat
X-WR-TIMEZONE:Europe/Madrid
DESCRIPTION:
URI:https://www.caldesdemontbui.cat/actualitat/agenda/pujada-al-balandrau.html
CLASS:PUBLIC
END:VEVENT
END:VCALENDAR
