BEGIN:VCALENDAR
VERSION:2.0
CALSCALE:GREGORIAN
PRODID:-//Diputació de Barcelona//DibaCMS//EN
BEGIN:VEVENT
UID:4683
DTSTAMP:20260421T021452
DTSTART:20090916T080000
DTEND:20090916T000000
SUMMARY:Caminada fins a les piscines de Palau
LOCATION:
METHOD:PUBLISH
X-WR-CALNAME:caldesm@caldesdemontbui.cat
X-WR-TIMEZONE:Europe/Madrid
DESCRIPTION:
URI:https://www.caldesdemontbui.cat/actualitat/agenda/caminada-fins-a-les-piscines-de-palau.html
CLASS:PUBLIC
END:VEVENT
END:VCALENDAR
