BEGIN:VCALENDAR
VERSION:2.0
CALSCALE:GREGORIAN
PRODID:-//Diputació de Barcelona//DibaCMS//EN
BEGIN:VEVENT
UID:4681
DTSTAMP:20260421T095028
DTSTART:20090911T190000
DTEND:20090911T000000
SUMMARY:Ballada de sardanes en motiu de la celebració de l'11 de Setembre
LOCATION:
METHOD:PUBLISH
X-WR-CALNAME:caldesm@caldesdemontbui.cat
X-WR-TIMEZONE:Europe/Madrid
DESCRIPTION:
URI:https://www.caldesdemontbui.cat/actualitat/agenda/ballada-de-sardanes-en-motiu-de-la-celebracio-de-l11-de-setembre.html
CLASS:PUBLIC
END:VEVENT
END:VCALENDAR
