BEGIN:VCALENDAR
VERSION:2.0
CALSCALE:GREGORIAN
PRODID:-//Diputació de Barcelona//DibaCMS//EN
BEGIN:VEVENT
UID:4680
DTSTAMP:20260421T064513
DTSTART:20090911T110000
DTEND:20090911T000000
SUMMARY:Acte institucional de la Diada Nacional de Catalunya 
LOCATION:
METHOD:PUBLISH
X-WR-CALNAME:caldesm@caldesdemontbui.cat
X-WR-TIMEZONE:Europe/Madrid
DESCRIPTION:
URI:https://www.caldesdemontbui.cat/actualitat/agenda/acte-institucional-de-la-diada-nacional-de-catalunya-.html
CLASS:PUBLIC
END:VEVENT
END:VCALENDAR
