BEGIN:VCALENDAR
VERSION:2.0
CALSCALE:GREGORIAN
PRODID:-//Diputació de Barcelona//DibaCMS//EN
BEGIN:VEVENT
UID:4677
DTSTAMP:20260421T051344
DTSTART:20090910T200000
DTEND:20090910T000000
SUMMARY:Conferència en motiu de l'11 de Setembre: Commemoració del centenari de la Setmana Tràgica
LOCATION:
METHOD:PUBLISH
X-WR-CALNAME:caldesm@caldesdemontbui.cat
X-WR-TIMEZONE:Europe/Madrid
DESCRIPTION:
URI:https://www.caldesdemontbui.cat/actualitat/agenda/conferencia-en-motiu-de-l11-de-setembre-commemoracio-del-centenari-de-la-setmana-tragica.html
CLASS:PUBLIC
END:VEVENT
END:VCALENDAR
