BEGIN:VCALENDAR
VERSION:2.0
CALSCALE:GREGORIAN
PRODID:-//Diputació de Barcelona//DibaCMS//EN
BEGIN:VEVENT
UID:4674
DTSTAMP:20260421T064651
DTSTART:20090909T074000
DTEND:20090909T230000
SUMMARY:Caminada des de Santa Eulàlia
LOCATION:
METHOD:PUBLISH
X-WR-CALNAME:caldesm@caldesdemontbui.cat
X-WR-TIMEZONE:Europe/Madrid
DESCRIPTION:
URI:https://www.caldesdemontbui.cat/actualitat/agenda/caminada-des-de-santa-eulalia.html
CLASS:PUBLIC
END:VEVENT
END:VCALENDAR
