BEGIN:VCALENDAR
VERSION:2.0
CALSCALE:GREGORIAN
PRODID:-//Diputació de Barcelona//DibaCMS//EN
BEGIN:VEVENT
UID:4673
DTSTAMP:20260421T134151
DTSTART:20090903T080000
DTEND:20090903T000000
SUMMARY:Caminada fins a Can Pujol
LOCATION:
METHOD:PUBLISH
X-WR-CALNAME:caldesm@caldesdemontbui.cat
X-WR-TIMEZONE:Europe/Madrid
DESCRIPTION:
URI:https://www.caldesdemontbui.cat/actualitat/agenda/caminada-fins-a-can-pujol.html
CLASS:PUBLIC
END:VEVENT
END:VCALENDAR
