BEGIN:VCALENDAR
VERSION:2.0
CALSCALE:GREGORIAN
PRODID:-//Diputació de Barcelona//DibaCMS//EN
BEGIN:VEVENT
UID:4671
DTSTAMP:20260421T064738
DTSTART:20090726T000000
DTEND:20090726T000000
SUMMARY:Sortida al cim de Montmalús i el Circ de Pessons (Andorra)
LOCATION:
METHOD:PUBLISH
X-WR-CALNAME:caldesm@caldesdemontbui.cat
X-WR-TIMEZONE:Europe/Madrid
DESCRIPTION:
URI:https://www.caldesdemontbui.cat/actualitat/agenda/sortida-al-cim-de-montmals-i-el-circ-de-pessons-andorra.html
CLASS:PUBLIC
END:VEVENT
END:VCALENDAR
