BEGIN:VCALENDAR
VERSION:2.0
CALSCALE:GREGORIAN
PRODID:-//Diputació de Barcelona//DibaCMS//EN
BEGIN:VEVENT
UID:4669
DTSTAMP:20260421T094325
DTSTART:20090724T200000
DTEND:20090724T000000
SUMMARY:Sopar i representació ambientat en l'època ibera
LOCATION:
METHOD:PUBLISH
X-WR-CALNAME:caldesm@caldesdemontbui.cat
X-WR-TIMEZONE:Europe/Madrid
DESCRIPTION:
URI:https://www.caldesdemontbui.cat/actualitat/agenda/sopar-i-representacio-ambientat-en-lepoca-ibera.html
CLASS:PUBLIC
END:VEVENT
END:VCALENDAR
