BEGIN:VCALENDAR
VERSION:2.0
CALSCALE:GREGORIAN
PRODID:-//Diputació de Barcelona//DibaCMS//EN
BEGIN:VEVENT
UID:4667
DTSTAMP:20260421T022818
DTSTART:20090718T180000
DTEND:20090718T000000
SUMMARY:CALDEJA'T: La gimcana de la Guspira. Es busca personal per a l'amabaixada calderina
LOCATION:
METHOD:PUBLISH
X-WR-CALNAME:caldesm@caldesdemontbui.cat
X-WR-TIMEZONE:Europe/Madrid
DESCRIPTION:
URI:https://www.caldesdemontbui.cat/actualitat/agenda/caldejat-la-gimcana-de-la-guspira-es-busca-personal-per-a-lamabaixada-calderina.html
CLASS:PUBLIC
END:VEVENT
END:VCALENDAR
