BEGIN:VCALENDAR
VERSION:2.0
CALSCALE:GREGORIAN
PRODID:-//Diputació de Barcelona//DibaCMS//EN
BEGIN:VEVENT
UID:4666
DTSTAMP:20260421T071006
DTSTART:20090718T000000
DTEND:20090718T000000
SUMMARY:Caldeja't: FESTA DE BARRI DEL CASC ANTIC
LOCATION:
METHOD:PUBLISH
X-WR-CALNAME:caldesm@caldesdemontbui.cat
X-WR-TIMEZONE:Europe/Madrid
DESCRIPTION:
URI:https://www.caldesdemontbui.cat/actualitat/agenda/caldejat-festa-de-barri-del-casc-antic.html
CLASS:PUBLIC
END:VEVENT
END:VCALENDAR
