BEGIN:VCALENDAR
VERSION:2.0
CALSCALE:GREGORIAN
PRODID:-//Diputació de Barcelona//DibaCMS//EN
BEGIN:VEVENT
UID:4661
DTSTAMP:20260421T005238
DTSTART:20090711T180000
DTEND:20090711T000000
SUMMARY:Sortida seminocturna pels entorns de Caldes
LOCATION:
METHOD:PUBLISH
X-WR-CALNAME:caldesm@caldesdemontbui.cat
X-WR-TIMEZONE:Europe/Madrid
DESCRIPTION:
URI:https://www.caldesdemontbui.cat/actualitat/agenda/sortida-seminocturna-pels-entorns-de-caldes.html
CLASS:PUBLIC
END:VEVENT
END:VCALENDAR
