BEGIN:VCALENDAR
VERSION:2.0
CALSCALE:GREGORIAN
PRODID:-//Diputació de Barcelona//DibaCMS//EN
BEGIN:VEVENT
UID:4660
DTSTAMP:20260421T005843
DTSTART:20090711T170000
DTEND:20090711T000000
SUMMARY:Caldeja't: ESCALDARIUM. LA FESTA DEL FOC I L'AIGUA
LOCATION:
METHOD:PUBLISH
X-WR-CALNAME:caldesm@caldesdemontbui.cat
X-WR-TIMEZONE:Europe/Madrid
DESCRIPTION:
URI:https://www.caldesdemontbui.cat/actualitat/agenda/caldejat-escaldarium-la-festa-del-foc-i-laigua.html
CLASS:PUBLIC
END:VEVENT
END:VCALENDAR
