BEGIN:VCALENDAR
VERSION:2.0
CALSCALE:GREGORIAN
PRODID:-//Diputació de Barcelona//DibaCMS//EN
BEGIN:VEVENT
UID:4658
DTSTAMP:20260421T033613
DTSTART:20090710T200000
DTEND:20090710T000000
SUMMARY:Caldeja't: Concert del Grup de Vent H3O
LOCATION:
METHOD:PUBLISH
X-WR-CALNAME:caldesm@caldesdemontbui.cat
X-WR-TIMEZONE:Europe/Madrid
DESCRIPTION:
URI:https://www.caldesdemontbui.cat/actualitat/agenda/caldejat-concert-del-grup-de-vent-h3o.html
CLASS:PUBLIC
END:VEVENT
END:VCALENDAR
