BEGIN:VCALENDAR
VERSION:2.0
CALSCALE:GREGORIAN
PRODID:-//Diputació de Barcelona//DibaCMS//EN
BEGIN:VEVENT
UID:4657
DTSTAMP:20260421T051151
DTSTART:20090710T200000
DTEND:20090710T000000
SUMMARY:Concert d'H30: música americana de la primera meitat del segle XX
LOCATION:
METHOD:PUBLISH
X-WR-CALNAME:caldesm@caldesdemontbui.cat
X-WR-TIMEZONE:Europe/Madrid
DESCRIPTION:
URI:https://www.caldesdemontbui.cat/actualitat/agenda/concert-dh30-msica-americana-de-la-primera-meitat-del-segle-xx.html
CLASS:PUBLIC
END:VEVENT
END:VCALENDAR
