BEGIN:VCALENDAR
VERSION:2.0
CALSCALE:GREGORIAN
PRODID:-//Diputació de Barcelona//DibaCMS//EN
BEGIN:VEVENT
UID:4655
DTSTAMP:20260421T081936
DTSTART:20090709T203000
DTEND:20090709T000000
SUMMARY:Presentació del Cercle Català de Negocis
LOCATION:
METHOD:PUBLISH
X-WR-CALNAME:caldesm@caldesdemontbui.cat
X-WR-TIMEZONE:Europe/Madrid
DESCRIPTION:
URI:https://www.caldesdemontbui.cat/actualitat/agenda/presentacio-del-cercle-catala-de-negocis.html
CLASS:PUBLIC
END:VEVENT
END:VCALENDAR
