BEGIN:VCALENDAR
VERSION:2.0
CALSCALE:GREGORIAN
PRODID:-//Diputació de Barcelona//DibaCMS//EN
BEGIN:VEVENT
UID:4652
DTSTAMP:20260421T033847
DTSTART:20090704T210000
DTEND:20090704T000000
SUMMARY:Caldeja't: GAT (Guerres  per l'aigua termal)
LOCATION:
METHOD:PUBLISH
X-WR-CALNAME:caldesm@caldesdemontbui.cat
X-WR-TIMEZONE:Europe/Madrid
DESCRIPTION:
URI:https://www.caldesdemontbui.cat/actualitat/agenda/caldejat-gat-guerres--per-laigua-termal.html
CLASS:PUBLIC
END:VEVENT
END:VCALENDAR
