BEGIN:VCALENDAR
VERSION:2.0
CALSCALE:GREGORIAN
PRODID:-//Diputació de Barcelona//DibaCMS//EN
BEGIN:VEVENT
UID:4651
DTSTAMP:20260421T064707
DTSTART:20090704T000000
DTEND:20090705T000000
SUMMARY:Caldeja't: FESTA DE BARRI DE L'AMETLLER
LOCATION:
METHOD:PUBLISH
X-WR-CALNAME:caldesm@caldesdemontbui.cat
X-WR-TIMEZONE:Europe/Madrid
DESCRIPTION:
URI:https://www.caldesdemontbui.cat/actualitat/agenda/caldejat-festa-de-barri-de-lametller.html
CLASS:PUBLIC
END:VEVENT
END:VCALENDAR
