BEGIN:VCALENDAR
VERSION:2.0
CALSCALE:GREGORIAN
PRODID:-//Diputació de Barcelona//DibaCMS//EN
BEGIN:VEVENT
UID:4649
DTSTAMP:20260421T051411
DTSTART:20090703T200000
DTEND:20090704T200000
SUMMARY:Torneig de futbol sala en homenatge a Enrique Martínez "Quique" 
LOCATION:
METHOD:PUBLISH
X-WR-CALNAME:caldesm@caldesdemontbui.cat
X-WR-TIMEZONE:Europe/Madrid
DESCRIPTION:
URI:https://www.caldesdemontbui.cat/actualitat/agenda/torneig-de-futbol-sala-en-homenatge-a-enrique-martinez-quique-.html
CLASS:PUBLIC
END:VEVENT
END:VCALENDAR
