BEGIN:VCALENDAR
VERSION:2.0
CALSCALE:GREGORIAN
PRODID:-//Diputació de Barcelona//DibaCMS//EN
BEGIN:VEVENT
UID:4647
DTSTAMP:20260421T094620
DTSTART:20090629T173000
DTEND:20090630T190000
SUMMARY:Jornada de Portes Obertes del Taller d'Art Municipal Manolo Hugué
LOCATION:
METHOD:PUBLISH
X-WR-CALNAME:caldesm@caldesdemontbui.cat
X-WR-TIMEZONE:Europe/Madrid
DESCRIPTION:
URI:https://www.caldesdemontbui.cat/actualitat/agenda/jornada-de-portes-obertes-del-taller-dart-municipal-manolo-hugue.html
CLASS:PUBLIC
END:VEVENT
END:VCALENDAR
