BEGIN:VCALENDAR
VERSION:2.0
CALSCALE:GREGORIAN
PRODID:-//Diputació de Barcelona//DibaCMS//EN
BEGIN:VEVENT
UID:4644
DTSTAMP:20260421T041411
DTSTART:20090626T180000
DTEND:20090626T000000
SUMMARY:Hora del conte especial en motiu de l'Any internacional de l'astronomia
LOCATION:
METHOD:PUBLISH
X-WR-CALNAME:caldesm@caldesdemontbui.cat
X-WR-TIMEZONE:Europe/Madrid
DESCRIPTION:
URI:https://www.caldesdemontbui.cat/actualitat/agenda/hora-del-conte-especial-en-motiu-de-lany-internacional-de-lastronomia.html
CLASS:PUBLIC
END:VEVENT
END:VCALENDAR
