BEGIN:VCALENDAR
VERSION:2.0
CALSCALE:GREGORIAN
PRODID:-//Diputació de Barcelona//DibaCMS//EN
BEGIN:VEVENT
UID:4643
DTSTAMP:20260421T064422
DTSTART:20090625T210000
DTEND:20090625T000000
SUMMARY:Caldeja't: BEM FESTIVAL 
LOCATION:
METHOD:PUBLISH
X-WR-CALNAME:caldesm@caldesdemontbui.cat
X-WR-TIMEZONE:Europe/Madrid
DESCRIPTION:
URI:https://www.caldesdemontbui.cat/actualitat/agenda/caldejat-bem-festival-.html
CLASS:PUBLIC
END:VEVENT
END:VCALENDAR
