BEGIN:VCALENDAR
VERSION:2.0
CALSCALE:GREGORIAN
PRODID:-//Diputació de Barcelona//DibaCMS//EN
BEGIN:VEVENT
UID:4641
DTSTAMP:20260421T035753
DTSTART:20090623T220000
DTEND:20090623T000000
SUMMARY:Arribada de la Flama del Canigó al barri Bugarai
LOCATION:
METHOD:PUBLISH
X-WR-CALNAME:caldesm@caldesdemontbui.cat
X-WR-TIMEZONE:Europe/Madrid
DESCRIPTION:
URI:https://www.caldesdemontbui.cat/actualitat/agenda/arribada-de-la-flama-del-canigo-al-barri-bugarai.html
CLASS:PUBLIC
END:VEVENT
END:VCALENDAR
