BEGIN:VCALENDAR
VERSION:2.0
CALSCALE:GREGORIAN
PRODID:-//Diputació de Barcelona//DibaCMS//EN
BEGIN:VEVENT
UID:4640
DTSTAMP:20260421T094453
DTSTART:20090623T193000
DTEND:20090623T000000
SUMMARY:Caldeja't: FLAMA DEL CANIGÓ
LOCATION:
METHOD:PUBLISH
X-WR-CALNAME:caldesm@caldesdemontbui.cat
X-WR-TIMEZONE:Europe/Madrid
DESCRIPTION:
URI:https://www.caldesdemontbui.cat/actualitat/agenda/caldejat-flama-del-canigo.html
CLASS:PUBLIC
END:VEVENT
END:VCALENDAR
