BEGIN:VCALENDAR
VERSION:2.0
CALSCALE:GREGORIAN
PRODID:-//Diputació de Barcelona//DibaCMS//EN
BEGIN:VEVENT
UID:4639
DTSTAMP:20260421T035717
DTSTART:20090623T190000
DTEND:20090623T000000
SUMMARY:Ballada de sardanes en motiu de la celebració de la Flama del Canigó
LOCATION:
METHOD:PUBLISH
X-WR-CALNAME:caldesm@caldesdemontbui.cat
X-WR-TIMEZONE:Europe/Madrid
DESCRIPTION:
URI:https://www.caldesdemontbui.cat/actualitat/agenda/ballada-de-sardanes-en-motiu-de-la-celebracio-de-la-flama-del-canigo.html
CLASS:PUBLIC
END:VEVENT
END:VCALENDAR
