BEGIN:VCALENDAR
VERSION:2.0
CALSCALE:GREGORIAN
PRODID:-//Diputació de Barcelona//DibaCMS//EN
BEGIN:VEVENT
UID:4638
DTSTAMP:20260421T051523
DTSTART:20090622T200000
DTEND:20090622T000000
SUMMARY:Xerrada: L'habitatge de compra
LOCATION:
METHOD:PUBLISH
X-WR-CALNAME:caldesm@caldesdemontbui.cat
X-WR-TIMEZONE:Europe/Madrid
DESCRIPTION:
URI:https://www.caldesdemontbui.cat/actualitat/agenda/xerrada-lhabitatge-de-compra.html
CLASS:PUBLIC
END:VEVENT
END:VCALENDAR
