BEGIN:VCALENDAR
VERSION:2.0
CALSCALE:GREGORIAN
PRODID:-//Diputació de Barcelona//DibaCMS//EN
BEGIN:VEVENT
UID:4636
DTSTAMP:20260421T034925
DTSTART:20090619T200000
DTEND:20090619T000000
SUMMARY:Inauguració de l'exposició "Intensities. Inconformisme, incorrecció i rebel·lió entre art i escena musical"
LOCATION:
METHOD:PUBLISH
X-WR-CALNAME:caldesm@caldesdemontbui.cat
X-WR-TIMEZONE:Europe/Madrid
DESCRIPTION:
URI:https://www.caldesdemontbui.cat/actualitat/agenda/inauguracio-de-lexposicio-intensities-inconformisme-incorreccio-i-rebellio-entre-art-i-escena-musical.html
CLASS:PUBLIC
END:VEVENT
END:VCALENDAR
